{ "currentVersion": 10.7, "serviceDescription": "
In base alla Legge <\/SPAN>R<\/SPAN>egionale dell'11 marzo 2005, n. 12, la Regione, in coordinamento con gli Enti locali, cura la realizzazione del Sistema informativo territoriale integrato, denominato SIT, al fine di disporre di elementi conoscitivi necessari alla definizione delle scelte di programmazione generale e settoriale, di pianificazione del territorio e all\u2019attività progettuale.<\/SPAN><\/P> La tavola delle previsioni di piano costituisce parte integrante del Documento di piano previsto nei Piani di <\/SPAN>G<\/SPAN>overno del <\/SPAN>T<\/SPAN>erritorio. Rappresenta uno strumento condiviso e mantenuto dai vari Enti. Contiene una sintesi informativa dei contenuti conoscitivi e previsionali degli strumenti di pianificazione comunale.<\/SPAN><\/P> Il <\/SPAN>Piano di <\/SPAN>G<\/SPAN>overno del <\/SPAN>T<\/SPAN>erritorio, <\/SPAN>sulla base dello studio delle componenti paesaggistiche, dell\u2019individuazione delle zone di tutela e delle criticità idrogeologiche, suddivide il territorio comunale in 5 classi di sensibilità paesaggistica: sensibilità molto alta, sensibilità alta, sensibilità media, sensibilità bassa e molto bassa.<\/SPAN><\/P> Tale classificazione è finalizzata all\u2019ottimale inserimento di quei progetti di trasformazione che saranno oggetto di autorizzazione paesaggistica e di cui, quindi, sarà valutata l'incidenza sull'ambiente circostante.<\/SPAN><\/P><\/DIV><\/DIV><\/DIV>",
"mapName": "PR07 - Carta della sensibilità paesistica",
"description": "",
"copyrightText": "",
"supportsDynamicLayers": true,
"layers": [
{
"id": 0,
"name": "_Confine comunale",
"parentLayerId": -1,
"defaultVisibility": true,
"subLayerIds": null,
"minScale": 180010,
"maxScale": 0,
"type": "Feature Layer",
"geometryType": "esriGeometryPolygon"
},
{
"id": 1,
"name": "Fronti di sensibilità paesistica elevata - classe 4",
"parentLayerId": -1,
"defaultVisibility": true,
"subLayerIds": null,
"minScale": 15010,
"maxScale": 0,
"type": "Feature Layer",
"geometryType": "esriGeometryPolyline"
},
{
"id": 2,
"name": "Assi urbani di riqualificazione dello spazio pubblico",
"parentLayerId": -1,
"defaultVisibility": true,
"subLayerIds": null,
"minScale": 15010,
"maxScale": 0,
"type": "Feature Layer",
"geometryType": "esriGeometryPolyline"
},
{
"id": 3,
"name": "Classi della sensibilità paesistica",
"parentLayerId": -1,
"defaultVisibility": true,
"subLayerIds": null,
"minScale": 35010,
"maxScale": 0,
"type": "Feature Layer",
"geometryType": "esriGeometryPolygon"
}
],
"tables": [],
"spatialReference": {
"wkid": 102100,
"latestWkid": 3857
},
"singleFusedMapCache": true,
"tileInfo": {
"rows": 256,
"cols": 256,
"dpi": 96,
"format": "PNG",
"compressionQuality": 0,
"origin": {
"x": -2.0037508342787E7,
"y": 2.0037508342787E7
},
"spatialReference": {
"wkid": 102100,
"latestWkid": 3857
},
"lods": [
{
"level": 0,
"resolution": 156543.033928,
"scale": 5.91657527591555E8
},
{
"level": 1,
"resolution": 78271.5169639999,
"scale": 2.95828763795777E8
},
{
"level": 2,
"resolution": 39135.7584820001,
"scale": 1.47914381897889E8
},
{
"level": 3,
"resolution": 19567.8792409999,
"scale": 7.3957190948944E7
},
{
"level": 4,
"resolution": 9783.93962049996,
"scale": 3.6978595474472E7
},
{
"level": 5,
"resolution": 4891.96981024998,
"scale": 1.8489297737236E7
},
{
"level": 6,
"resolution": 2445.98490512499,
"scale": 9244648.868618
},
{
"level": 7,
"resolution": 1222.99245256249,
"scale": 4622324.434309
},
{
"level": 8,
"resolution": 611.49622628138,
"scale": 2311162.217155
},
{
"level": 9,
"resolution": 305.748113140558,
"scale": 1155581.108577
},
{
"level": 10,
"resolution": 152.874056570411,
"scale": 577790.554289
},
{
"level": 11,
"resolution": 76.4370282850732,
"scale": 288895.277144
},
{
"level": 12,
"resolution": 38.2185141425366,
"scale": 144447.638572
},
{
"level": 13,
"resolution": 19.1092570712683,
"scale": 72223.819286
},
{
"level": 14,
"resolution": 9.55462853563415,
"scale": 36111.909643
},
{
"level": 15,
"resolution": 4.77731426794937,
"scale": 18055.954822
},
{
"level": 16,
"resolution": 2.38865713397468,
"scale": 9027.977411
},
{
"level": 17,
"resolution": 1.19432856685505,
"scale": 4513.988705
},
{
"level": 18,
"resolution": 0.597164283559817,
"scale": 2256.994353
},
{
"level": 19,
"resolution": 0.298582141647617,
"scale": 1128.497176
},
{
"level": 20,
"resolution": 0.14929107082380833,
"scale": 564.248588
},
{
"level": 21,
"resolution": 0.07464553541190416,
"scale": 282.124294
},
{
"level": 22,
"resolution": 0.03732276770595208,
"scale": 141.062147
},
{
"level": 23,
"resolution": 0.01866138385297604,
"scale": 70.5310735
}
]
},
"initialExtent": {
"xmin": 1022349.9388799146,
"ymin": 5704590.127087029,
"xmax": 1036557.3918406107,
"ymax": 5710698.100000044,
"spatialReference": {
"wkid": 102100,
"latestWkid": 3857
}
},
"fullExtent": {
"xmin": 1021870.6918609823,
"ymin": 5701469.4148760075,
"xmax": 1037036.638859543,
"ymax": 5710698.100000043,
"spatialReference": {
"wkid": 102100,
"latestWkid": 3857
}
},
"minScale": 5.91657527591555E8,
"maxScale": 564.248588,
"units": "esriMeters",
"supportedImageFormatTypes": "PNG32,PNG24,PNG,JPG,DIB,TIFF,EMF,PS,PDF,GIF,SVG,SVGZ,BMP",
"documentInfo": {
"Title": "",
"Author": "",
"Comments": "",
"Subject": "",
"Category": "",
"AntialiasingMode": "None",
"TextAntialiasingMode": "Force",
"Keywords": "Paesaggio; Territorio; Sensibilità; Ambiente"
},
"capabilities": "Map,Query,Data",
"supportedQueryFormats": "JSON, AMF, geoJSON",
"exportTilesAllowed": false,
"supportsDatumTransformation": true,
"maxRecordCount": 1000,
"maxImageHeight": 4096,
"maxImageWidth": 4096,
"supportedExtensions": ""
}