{ "currentVersion": 10.7, "serviceDescription": "
L\u2019elaborato grafico \"PS.03 \u2013 Il progetto per la Città\", pur mantenendosi in continuità con il Piano di Governo del Territorio del 2009, introduce una serie di novità:<\/SPAN><\/P> - gli ambiti e direttrici strategiche indicative, come: Ambiti strategici della sanità e della salute, Ambiti metropolitani strategici del verde, Ambiti per servizi strategici, Assi urbani di riqualificazione dello spazio pubblico, Connessioni verdi strategiche;<\/SPAN><\/P> - le previsioni di nuova viabilità, per le quali deve essere garantita la direttrice diconnessione da essi sottesa;<\/SPAN><\/P> - le indicazioni puntuali e lineari degli elementi di progetto per i tessuti della cittàconsolidata quali: Attrezzatura di interesse pubblico, Attrezzatura per la sosta, Fascia a verde alberata, Spazi di permeabilità, Connessioni della mobilità dolce, Viabilità da riqualificare;<\/SPAN><\/P> - le individuazioni di massima di tracciati e fermate delle previsioni riguardanti l\u2019ampliamento della rete metropolitana;<\/SPAN><\/P> - le geometrie di quella quota parte di immobili e beni storico-documentali insistenti su aree per servizi;<\/SPAN><\/P> - la perimetrazione degli ambiti sportivi soggetti a Project Financing e piani gestione pluriennali, regolati da appositi atti convenzionali;<\/SPAN><\/P> - le aree inerenti al Piano per le Attrezzature Religiose (PAR).<\/SPAN><\/P><\/DIV><\/DIV><\/DIV>",
"mapName": "PS03 - Il progetto per la Città",
"description": "",
"copyrightText": "",
"supportsDynamicLayers": true,
"layers": [
{
"id": 0,
"name": "_Confine comunale",
"parentLayerId": -1,
"defaultVisibility": true,
"subLayerIds": null,
"minScale": 180010,
"maxScale": 0,
"type": "Feature Layer",
"geometryType": "esriGeometryPolygon"
},
{
"id": 1,
"name": "_Vestizione - Ambiti ex cava ",
"parentLayerId": -1,
"defaultVisibility": true,
"subLayerIds": null,
"minScale": 20010,
"maxScale": 0,
"type": "Feature Layer",
"geometryType": "esriGeometryPoint"
},
{
"id": 2,
"name": "Comparti ex cava",
"parentLayerId": -1,
"defaultVisibility": true,
"subLayerIds": null,
"minScale": 25010,
"maxScale": 0,
"type": "Feature Layer",
"geometryType": "esriGeometryPolygon"
},
{
"id": 3,
"name": "Parcheggi interrati di interesse pubblico esistenti",
"parentLayerId": -1,
"defaultVisibility": true,
"subLayerIds": null,
"minScale": 10010,
"maxScale": 0,
"type": "Feature Layer",
"geometryType": "esriGeometryPoint"
},
{
"id": 4,
"name": "Elementi di progetto per la città consolidata",
"parentLayerId": -1,
"defaultVisibility": true,
"subLayerIds": null,
"minScale": 10010,
"maxScale": 0,
"type": "Feature Layer",
"geometryType": "esriGeometryPoint"
},
{
"id": 5,
"name": "Elementi di progetto per la città consolidata",
"parentLayerId": -1,
"defaultVisibility": true,
"subLayerIds": null,
"minScale": 35010,
"maxScale": 0,
"type": "Feature Layer",
"geometryType": "esriGeometryPolyline"
},
{
"id": 6,
"name": "Ambiti sportivi oggetto di PF e PG",
"parentLayerId": -1,
"defaultVisibility": true,
"subLayerIds": null,
"minScale": 20010,
"maxScale": 0,
"type": "Feature Layer",
"geometryType": "esriGeometryPolygon"
},
{
"id": 7,
"name": "Beni storico-documentali della \"Città delle fabbriche\"",
"parentLayerId": -1,
"defaultVisibility": true,
"subLayerIds": null,
"minScale": 20010,
"maxScale": 0,
"type": "Feature Layer",
"geometryType": "esriGeometryPolygon"
},
{
"id": 8,
"name": "Aree per la realizzazione dello Svincolo Ring Nord",
"parentLayerId": -1,
"defaultVisibility": true,
"subLayerIds": null,
"minScale": 20010,
"maxScale": 0,
"type": "Feature Layer",
"geometryType": "esriGeometryPolygon"
},
{
"id": 9,
"name": "Parchi",
"parentLayerId": -1,
"defaultVisibility": true,
"subLayerIds": null,
"minScale": 35010,
"maxScale": 0,
"type": "Feature Layer",
"geometryType": "esriGeometryPolygon"
},
{
"id": 10,
"name": "Stazioni e fermate",
"parentLayerId": -1,
"defaultVisibility": true,
"subLayerIds": null,
"minScale": 20010,
"maxScale": 0,
"type": "Feature Layer",
"geometryType": "esriGeometryPoint"
},
{
"id": 11,
"name": "_Vestizione - Connessioni verdi strategiche",
"parentLayerId": -1,
"defaultVisibility": true,
"subLayerIds": null,
"minScale": 25010,
"maxScale": 0,
"type": "Feature Layer",
"geometryType": "esriGeometryPolyline"
},
{
"id": 12,
"name": "Metropolitana",
"parentLayerId": -1,
"defaultVisibility": true,
"subLayerIds": null,
"minScale": 20010,
"maxScale": 0,
"type": "Feature Layer",
"geometryType": "esriGeometryPolyline"
},
{
"id": 13,
"name": "Rete ciclabile",
"parentLayerId": -1,
"defaultVisibility": true,
"subLayerIds": null,
"minScale": 20010,
"maxScale": 0,
"type": "Feature Layer",
"geometryType": "esriGeometryPolyline"
},
{
"id": 14,
"name": "Idrografia",
"parentLayerId": -1,
"defaultVisibility": true,
"subLayerIds": null,
"minScale": 35010,
"maxScale": 0,
"type": "Feature Layer",
"geometryType": "esriGeometryPolygon"
},
{
"id": 15,
"name": "_Vestizione - Previsioni strategiche indicative",
"parentLayerId": -1,
"defaultVisibility": true,
"subLayerIds": null,
"minScale": 35010,
"maxScale": 0,
"type": "Feature Layer",
"geometryType": "esriGeometryPolygon"
},
{
"id": 16,
"name": "Ambiti di sviluppo urbano",
"parentLayerId": -1,
"defaultVisibility": true,
"subLayerIds": null,
"minScale": 25010,
"maxScale": 0,
"type": "Feature Layer",
"geometryType": "esriGeometryPolygon"
},
{
"id": 17,
"name": "AdP - Città della Salute e della Ricerca",
"parentLayerId": -1,
"defaultVisibility": true,
"subLayerIds": null,
"minScale": 35010,
"maxScale": 0,
"type": "Feature Layer",
"geometryType": "esriGeometryPolygon"
},
{
"id": 18,
"name": "Ambiti di trasformazione del Documento di Piano",
"parentLayerId": -1,
"defaultVisibility": true,
"subLayerIds": null,
"minScale": 35010,
"maxScale": 0,
"type": "Feature Layer",
"geometryType": "esriGeometryPolygon"
},
{
"id": 19,
"name": "Pianificazione attuativa vigente",
"parentLayerId": -1,
"defaultVisibility": true,
"subLayerIds": null,
"minScale": 25010,
"maxScale": 0,
"type": "Feature Layer",
"geometryType": "esriGeometryPolygon"
},
{
"id": 20,
"name": "Servizi esistenti e di progetto",
"parentLayerId": -1,
"defaultVisibility": true,
"subLayerIds": null,
"minScale": 35010,
"maxScale": 0,
"type": "Feature Layer",
"geometryType": "esriGeometryPolygon"
},
{
"id": 21,
"name": "_Vestizione - Assi urbani di riqualificazione dello spazio pubblico",
"parentLayerId": -1,
"defaultVisibility": true,
"subLayerIds": null,
"minScale": 25010,
"maxScale": 0,
"type": "Feature Layer",
"geometryType": "esriGeometryPolyline"
}
],
"tables": [],
"spatialReference": {
"wkid": 102100,
"latestWkid": 3857
},
"singleFusedMapCache": true,
"tileInfo": {
"rows": 256,
"cols": 256,
"dpi": 96,
"format": "PNG",
"compressionQuality": 0,
"origin": {
"x": -2.0037508342787E7,
"y": 2.0037508342787E7
},
"spatialReference": {
"wkid": 102100,
"latestWkid": 3857
},
"lods": [
{
"level": 0,
"resolution": 156543.033928,
"scale": 5.91657527591555E8
},
{
"level": 1,
"resolution": 78271.5169639999,
"scale": 2.95828763795777E8
},
{
"level": 2,
"resolution": 39135.7584820001,
"scale": 1.47914381897889E8
},
{
"level": 3,
"resolution": 19567.8792409999,
"scale": 7.3957190948944E7
},
{
"level": 4,
"resolution": 9783.93962049996,
"scale": 3.6978595474472E7
},
{
"level": 5,
"resolution": 4891.96981024998,
"scale": 1.8489297737236E7
},
{
"level": 6,
"resolution": 2445.98490512499,
"scale": 9244648.868618
},
{
"level": 7,
"resolution": 1222.99245256249,
"scale": 4622324.434309
},
{
"level": 8,
"resolution": 611.49622628138,
"scale": 2311162.217155
},
{
"level": 9,
"resolution": 305.748113140558,
"scale": 1155581.108577
},
{
"level": 10,
"resolution": 152.874056570411,
"scale": 577790.554289
},
{
"level": 11,
"resolution": 76.4370282850732,
"scale": 288895.277144
},
{
"level": 12,
"resolution": 38.2185141425366,
"scale": 144447.638572
},
{
"level": 13,
"resolution": 19.1092570712683,
"scale": 72223.819286
},
{
"level": 14,
"resolution": 9.55462853563415,
"scale": 36111.909643
},
{
"level": 15,
"resolution": 4.77731426794937,
"scale": 18055.954822
},
{
"level": 16,
"resolution": 2.38865713397468,
"scale": 9027.977411
},
{
"level": 17,
"resolution": 1.19432856685505,
"scale": 4513.988705
},
{
"level": 18,
"resolution": 0.597164283559817,
"scale": 2256.994353
},
{
"level": 19,
"resolution": 0.298582141647617,
"scale": 1128.497176
},
{
"level": 20,
"resolution": 0.14929107082380833,
"scale": 564.248588
},
{
"level": 21,
"resolution": 0.07464553541190416,
"scale": 282.124294
},
{
"level": 22,
"resolution": 0.03732276770595208,
"scale": 141.062147
},
{
"level": 23,
"resolution": 0.01866138385297604,
"scale": 70.5310735
}
]
},
"initialExtent": {
"xmin": 1021989.1192691465,
"ymin": 5704651.292125908,
"xmax": 1036229.0586490707,
"ymax": 5710773.231382451,
"spatialReference": {
"wkid": 102100,
"latestWkid": 3857
}
},
"fullExtent": {
"xmin": 1021526.115459828,
"ymin": 5701533.99521402,
"xmax": 1036692.0624583889,
"ymax": 5710762.680338054,
"spatialReference": {
"wkid": 102100,
"latestWkid": 3857
}
},
"minScale": 5.91657527591555E8,
"maxScale": 564.248588,
"units": "esriMeters",
"supportedImageFormatTypes": "PNG32,PNG24,PNG,JPG,DIB,TIFF,EMF,PS,PDF,GIF,SVG,SVGZ,BMP",
"documentInfo": {
"Title": "",
"Author": "",
"Comments": "",
"Subject": "",
"Category": "",
"AntialiasingMode": "None",
"TextAntialiasingMode": "Force",
"Keywords": "Previsioni; Territorio; Urbanistica; Pianificazione; Progettazione"
},
"capabilities": "Map,Query,Data",
"supportedQueryFormats": "JSON, AMF, geoJSON",
"exportTilesAllowed": false,
"supportsDatumTransformation": true,
"maxRecordCount": 1000,
"maxImageHeight": 4096,
"maxImageWidth": 4096,
"supportedExtensions": ""
}