{ "currentVersion": 10.7, "serviceDescription": "
La rete ecologica comunale comprende;<\/SPAN><\/P> -<\/SPAN>il corridoio trasversale della rete verde di ricomposizione paesaggistica così come definito dal PTCP;<\/SPAN><\/P> - i varchi;<\/SPAN><\/P> - la rete di \"connessione e fruizione\" che comprende un sistema di percorsi pedonali e ciclabili, prefiribilmente, anche se non esclusivamente, verdi, finalizzati a creare una connessione urbana tra tutte o parte le risorse sopra evidenziate nonché con i luoghi destinati alla fruizione pubblica.<\/SPAN><\/P><\/DIV><\/DIV><\/DIV>",
"mapName": "REC02 - La rete ecologica comunale",
"description": "",
"copyrightText": "",
"supportsDynamicLayers": true,
"layers": [
{
"id": 0,
"name": "_Confine comunale",
"parentLayerId": -1,
"defaultVisibility": true,
"subLayerIds": null,
"minScale": 180010,
"maxScale": 0,
"type": "Feature Layer",
"geometryType": "esriGeometryPolygon"
},
{
"id": 1,
"name": "Sovrappassi",
"parentLayerId": -1,
"defaultVisibility": true,
"subLayerIds": null,
"minScale": 25010,
"maxScale": 0,
"type": "Feature Layer",
"geometryType": "esriGeometryPolygon"
},
{
"id": 2,
"name": "Rete ciclabile",
"parentLayerId": -1,
"defaultVisibility": true,
"subLayerIds": null,
"minScale": 25010,
"maxScale": 0,
"type": "Feature Layer",
"geometryType": "esriGeometryPolyline"
},
{
"id": 3,
"name": "_Vestizione - Direttrici urbane di connessione e permeabilità",
"parentLayerId": -1,
"defaultVisibility": true,
"subLayerIds": null,
"minScale": 20010,
"maxScale": 0,
"type": "Feature Layer",
"geometryType": "esriGeometryPolyline"
},
{
"id": 4,
"name": "Ambiti di sviluppo urbano",
"parentLayerId": -1,
"defaultVisibility": true,
"subLayerIds": null,
"minScale": 25010,
"maxScale": 0,
"type": "Feature Layer",
"geometryType": "esriGeometryPolygon"
},
{
"id": 5,
"name": "AdP - Città della Salute e della Ricerca",
"parentLayerId": -1,
"defaultVisibility": true,
"subLayerIds": null,
"minScale": 35010,
"maxScale": 0,
"type": "Feature Layer",
"geometryType": "esriGeometryPolygon"
},
{
"id": 6,
"name": "Ambiti di trasformazione del Documento di Piano",
"parentLayerId": -1,
"defaultVisibility": true,
"subLayerIds": null,
"minScale": 35010,
"maxScale": 0,
"type": "Feature Layer",
"geometryType": "esriGeometryPolygon"
},
{
"id": 7,
"name": "Pianificazione attuativa vigente",
"parentLayerId": -1,
"defaultVisibility": true,
"subLayerIds": null,
"minScale": 25010,
"maxScale": 0,
"type": "Feature Layer",
"geometryType": "esriGeometryPolygon"
},
{
"id": 8,
"name": "Ambiti da riqualificare/deframmentare ai fini della connettività ecologica",
"parentLayerId": -1,
"defaultVisibility": true,
"subLayerIds": null,
"minScale": 25010,
"maxScale": 0,
"type": "Feature Layer",
"geometryType": "esriGeometryPolygon"
},
{
"id": 9,
"name": "Parco Naturale Nord Milano",
"parentLayerId": -1,
"defaultVisibility": true,
"subLayerIds": null,
"minScale": 35010,
"maxScale": 0,
"type": "Feature Layer",
"geometryType": "esriGeometryPolygon"
},
{
"id": 10,
"name": "Parchi",
"parentLayerId": -1,
"defaultVisibility": true,
"subLayerIds": null,
"minScale": 35010,
"maxScale": 0,
"type": "Feature Layer",
"geometryType": "esriGeometryPolygon"
},
{
"id": 11,
"name": "Asta fluviale di riferimento per il corridoio ecologico primario",
"parentLayerId": -1,
"defaultVisibility": true,
"subLayerIds": null,
"minScale": 35010,
"maxScale": 0,
"type": "Feature Layer",
"geometryType": "esriGeometryPolygon"
},
{
"id": 12,
"name": "Aree del corridoio ecologico fluviale primario",
"parentLayerId": -1,
"defaultVisibility": true,
"subLayerIds": null,
"minScale": 35010,
"maxScale": 0,
"type": "Feature Layer",
"geometryType": "esriGeometryPolygon"
},
{
"id": 13,
"name": "Nodi della REC",
"parentLayerId": -1,
"defaultVisibility": true,
"subLayerIds": null,
"minScale": 35010,
"maxScale": 0,
"type": "Feature Layer",
"geometryType": "esriGeometryPolygon"
},
{
"id": 14,
"name": "Rete ecologica comunale",
"parentLayerId": -1,
"defaultVisibility": true,
"subLayerIds": null,
"minScale": 35010,
"maxScale": 0,
"type": "Feature Layer",
"geometryType": "esriGeometryPolygon"
},
{
"id": 15,
"name": "Idrografia",
"parentLayerId": -1,
"defaultVisibility": true,
"subLayerIds": null,
"minScale": 35010,
"maxScale": 0,
"type": "Feature Layer",
"geometryType": "esriGeometryPolygon"
}
],
"tables": [],
"spatialReference": {
"wkid": 102100,
"latestWkid": 3857
},
"singleFusedMapCache": true,
"tileInfo": {
"rows": 256,
"cols": 256,
"dpi": 96,
"format": "PNG",
"compressionQuality": 0,
"origin": {
"x": -2.0037508342787E7,
"y": 2.0037508342787E7
},
"spatialReference": {
"wkid": 102100,
"latestWkid": 3857
},
"lods": [
{
"level": 0,
"resolution": 156543.033928,
"scale": 5.91657527591555E8
},
{
"level": 1,
"resolution": 78271.5169639999,
"scale": 2.95828763795777E8
},
{
"level": 2,
"resolution": 39135.7584820001,
"scale": 1.47914381897889E8
},
{
"level": 3,
"resolution": 19567.8792409999,
"scale": 7.3957190948944E7
},
{
"level": 4,
"resolution": 9783.93962049996,
"scale": 3.6978595474472E7
},
{
"level": 5,
"resolution": 4891.96981024998,
"scale": 1.8489297737236E7
},
{
"level": 6,
"resolution": 2445.98490512499,
"scale": 9244648.868618
},
{
"level": 7,
"resolution": 1222.99245256249,
"scale": 4622324.434309
},
{
"level": 8,
"resolution": 611.49622628138,
"scale": 2311162.217155
},
{
"level": 9,
"resolution": 305.748113140558,
"scale": 1155581.108577
},
{
"level": 10,
"resolution": 152.874056570411,
"scale": 577790.554289
},
{
"level": 11,
"resolution": 76.4370282850732,
"scale": 288895.277144
},
{
"level": 12,
"resolution": 38.2185141425366,
"scale": 144447.638572
},
{
"level": 13,
"resolution": 19.1092570712683,
"scale": 72223.819286
},
{
"level": 14,
"resolution": 9.55462853563415,
"scale": 36111.909643
},
{
"level": 15,
"resolution": 4.77731426794937,
"scale": 18055.954822
},
{
"level": 16,
"resolution": 2.38865713397468,
"scale": 9027.977411
},
{
"level": 17,
"resolution": 1.19432856685505,
"scale": 4513.988705
},
{
"level": 18,
"resolution": 0.597164283559817,
"scale": 2256.994353
},
{
"level": 19,
"resolution": 0.298582141647617,
"scale": 1128.497176
},
{
"level": 20,
"resolution": 0.14929107082380833,
"scale": 564.248588
},
{
"level": 21,
"resolution": 0.07464553541190416,
"scale": 282.124294
},
{
"level": 22,
"resolution": 0.03732276770595208,
"scale": 141.062147
},
{
"level": 23,
"resolution": 0.01866138385297604,
"scale": 70.5310735
}
]
},
"initialExtent": {
"xmin": 1022212.4660297896,
"ymin": 5704567.133759397,
"xmax": 1036452.4054097136,
"ymax": 5710689.07301594,
"spatialReference": {
"cs": "pcs",
"wkid": 102100
}
},
"fullExtent": {
"xmin": 1021749.4622204714,
"ymin": 5701449.836847507,
"xmax": 1036915.4092190319,
"ymax": 5710678.521971544,
"spatialReference": {
"cs": "pcs",
"wkid": 102100
}
},
"minScale": 5.91657527591555E8,
"maxScale": 564.248588,
"units": "esriMeters",
"supportedImageFormatTypes": "PNG32,PNG24,PNG,JPG,DIB,TIFF,EMF,PS,PDF,GIF,SVG,SVGZ,BMP",
"documentInfo": {
"Title": "",
"Author": "",
"Comments": "",
"Subject": "",
"Category": "",
"AntialiasingMode": "None",
"TextAntialiasingMode": "Force",
"Keywords": "Paesaggio; Territorio; Rete ecologica; Ambiente"
},
"capabilities": "Map,Query,Data",
"supportedQueryFormats": "JSON, AMF, geoJSON",
"exportTilesAllowed": false,
"supportsDatumTransformation": true,
"maxRecordCount": 1000,
"maxImageHeight": 4096,
"maxImageWidth": 4096,
"supportedExtensions": ""
}