View In:
ArcGIS JavaScript
ArcGIS Online Map Viewer
ArcGIS Earth
ArcMap
ArcGIS Explorer
ArcGIS Pro
View Footprint In:
ArcGIS Online Map Viewer
Service Description: La carta della fattibilità geologica è un documento di pericolosità che fornisce informazioni in ordine alle limitazioni e destinazioni d’uso del territorio. Viene ricavato dalla carta di sintesi e quella dei vincoli, attribuendo un valore di classe a ciascun poligono secondo le normative vigenti, e dalla sovrapposizione delle aree definite nella carta della pericolosità sismica del luogo. Il suo utilizzo è legato alle norme geologiche di attuazione che ne riportano la relativa normativa d’uso. Costituisce la fase di proposta dello Studio geologico e prevede l’assegnazione della classe di fattibilità agli ambiti omogenei per pericolosità geologica, vulnerabilità idraulica e idrogeologica individuati nella fase di sintesi.
Map Name: CG09_1 - Fattibilità geologica
Legend
All Layers and Tables
Dynamic Legend
Dynamic All Layers
Layers:
Description:
Copyright Text:
Spatial Reference:
102100
(3857)
Single Fused Map Cache: true
Tile Info:
- Height: 256
- Width: 256
- DPI: 96
-
Levels of Detail: 24
-
Level ID: 1
[ Start Tile, End Tile ]
- Resolution: 78271.5169639999
- Scale: 2.95828763795777E8
-
Level ID: 2
[ Start Tile, End Tile ]
- Resolution: 39135.7584820001
- Scale: 1.47914381897889E8
-
Level ID: 3
[ Start Tile, End Tile ]
- Resolution: 19567.8792409999
- Scale: 7.3957190948944E7
-
Level ID: 4
[ Start Tile, End Tile ]
- Resolution: 9783.93962049996
- Scale: 3.6978595474472E7
-
Level ID: 5
[ Start Tile, End Tile ]
- Resolution: 4891.96981024998
- Scale: 1.8489297737236E7
- Format: PNG
- Compression Quality: 0.0
- Origin: X: -2.0037508342787E7
Y: 2.0037508342787E7
- Spatial Reference: 102100
(3857)
Initial Extent:
XMin: 1022215.5814140185
YMin: 5704673.456819856
XMax: 1036423.034374716
YMax: 5710781.429732873
Spatial Reference: 102100
Full Extent:
XMin: 1021736.334395087
YMin: 5701552.744608836
XMax: 1036902.2813936475
YMax: 5710781.429732873
Spatial Reference: 102100
Units: esriMeters
Supported Image Format Types: PNG32,PNG24,PNG,JPG,DIB,TIFF,EMF,PS,PDF,GIF,SVG,SVGZ,BMP
Document Info:
Title:
Author:
Comments:
Subject:
Category:
Keywords: Componente geologica; Territorio; Fattibilità
AntialiasingMode: None
TextAntialiasingMode: Force
Supports Dynamic Layers: true
MaxRecordCount: 1000
MaxImageHeight: 4096
MaxImageWidth: 4096
Supported Query Formats: JSON, AMF, geoJSON
Min Scale: 5.91657527591555E8
Max Scale: 564.248588
Supports Datum Transformation: true
Child Resources:
Info
Dynamic Layer
Supported Operations:
Export Map
Identify
QueryDomains
Find
Return Updates